BEGIN:VCALENDAR
VERSION:2.0
PRODID:-//Leah Bell - ECPv6.15.20//NONSGML v1.0//EN
CALSCALE:GREGORIAN
METHOD:PUBLISH
X-WR-CALNAME:Leah Bell
X-ORIGINAL-URL:https://leahbellsoprano.com
X-WR-CALDESC:Events for Leah Bell
REFRESH-INTERVAL;VALUE=DURATION:PT1H
X-Robots-Tag:noindex
X-PUBLISHED-TTL:PT1H
BEGIN:VTIMEZONE
TZID:Australia/Sydney
BEGIN:STANDARD
TZOFFSETFROM:+1100
TZOFFSETTO:+1000
TZNAME:AEST
DTSTART:20240406T160000
END:STANDARD
BEGIN:DAYLIGHT
TZOFFSETFROM:+1000
TZOFFSETTO:+1100
TZNAME:AEDT
DTSTART:20241005T160000
END:DAYLIGHT
BEGIN:STANDARD
TZOFFSETFROM:+1100
TZOFFSETTO:+1000
TZNAME:AEST
DTSTART:20250405T160000
END:STANDARD
BEGIN:DAYLIGHT
TZOFFSETFROM:+1000
TZOFFSETTO:+1100
TZNAME:AEDT
DTSTART:20251004T160000
END:DAYLIGHT
BEGIN:STANDARD
TZOFFSETFROM:+1100
TZOFFSETTO:+1000
TZNAME:AEST
DTSTART:20260404T160000
END:STANDARD
BEGIN:DAYLIGHT
TZOFFSETFROM:+1000
TZOFFSETTO:+1100
TZNAME:AEDT
DTSTART:20261003T160000
END:DAYLIGHT
END:VTIMEZONE
BEGIN:VEVENT
DTSTART;TZID=Australia/Sydney:20251103T190000
DTEND;TZID=Australia/Sydney:20251108T140000
DTSTAMP:20260423T030032
CREATED:20250926T014714Z
LAST-MODIFIED:20250926T015856Z
UID:2618-1762196400-1762610400@leahbellsoprano.com
SUMMARY:Orpheus in the Underworld by Jaques Offenbach
DESCRIPTION:Presented by: National Institute of Dramatic Art \n\n\nBy Jacques Offenbach\nConducted by Stephen Mould\nDirected by Constantine Costi\nChoreographed by Shannon Burns\nMusicians and singers\, students from The Conservatorium of Music\nDesign\, costume\, sets\, props\, crew and stage management\, students from NIDA \nGods Gone Wild \nForget tragedy – this is Orpheus as you’ve never seen him. \nIn Offenbach’s satirical operetta\, Orpheus and Eurydice aren’t star-crossed lovers\, they’re a dysfunctional couple\, and neither is particularly sad about their separation. When Eurydice descends into the underworld\, it isn’t tragedy that follows\, but an all-out divine spectacle. The gods are bored\, Hades is throwing a party\, and the legendary Can-Can ignites chaos. \nA co-production with the Sydney Conservatorium of Music\, this riotous\, visually spectacular production is helmed by acclaimed director Constantine Costi (La Traviata on Sydney Harbour). Expect razor-sharp wit\, dazzling vocal performances\, and a whirlwind of divine comedy and devilish fun. This is an unmissable mythological meltdown. \nCan you laugh your way out of hell? \n\nMon 3rd November 7pm 0PENING NIGHT\nWed 5th November 7pm\nThurs 6th November 7pm\nSat 8th November 2pm MATINEE \nTimes are approx. and subject to change at any time. \n2 hrs 30 mins including interval TBC. \nTip:For the most up-to-date performance times and content details\, please check the NIDA website before your visit.
URL:https://leahbellsoprano.com/performance/orpheus-in-the-underworld-by-jaques-offenbach/
LOCATION:NIDA Parade Theatre\, Sydney\, NSW\, NIDA on Anzac Parade in Kensington\, Sydney.\, Kensington\, NSW\, 2000\, Australia
ATTACH;FMTTYPE=image/jpeg:https://leahbellsoprano.com/wp-content/uploads/sfx343853.jpg
END:VEVENT
END:VCALENDAR