BEGIN:VCALENDAR
VERSION:2.0
PRODID:-//Leah Bell - ECPv6.15.20//NONSGML v1.0//EN
CALSCALE:GREGORIAN
METHOD:PUBLISH
X-WR-CALNAME:Leah Bell
X-ORIGINAL-URL:https://leahbellsoprano.com
X-WR-CALDESC:Events for Leah Bell
REFRESH-INTERVAL;VALUE=DURATION:PT1H
X-Robots-Tag:noindex
X-PUBLISHED-TTL:PT1H
BEGIN:VTIMEZONE
TZID:Australia/Sydney
BEGIN:STANDARD
TZOFFSETFROM:+1100
TZOFFSETTO:+1000
TZNAME:AEST
DTSTART:20240406T160000
END:STANDARD
BEGIN:DAYLIGHT
TZOFFSETFROM:+1000
TZOFFSETTO:+1100
TZNAME:AEDT
DTSTART:20241005T160000
END:DAYLIGHT
BEGIN:STANDARD
TZOFFSETFROM:+1100
TZOFFSETTO:+1000
TZNAME:AEST
DTSTART:20250405T160000
END:STANDARD
BEGIN:DAYLIGHT
TZOFFSETFROM:+1000
TZOFFSETTO:+1100
TZNAME:AEDT
DTSTART:20251004T160000
END:DAYLIGHT
BEGIN:STANDARD
TZOFFSETFROM:+1100
TZOFFSETTO:+1000
TZNAME:AEST
DTSTART:20260404T160000
END:STANDARD
BEGIN:DAYLIGHT
TZOFFSETFROM:+1000
TZOFFSETTO:+1100
TZNAME:AEDT
DTSTART:20261003T160000
END:DAYLIGHT
BEGIN:STANDARD
TZOFFSETFROM:+1100
TZOFFSETTO:+1000
TZNAME:AEST
DTSTART:20270403T160000
END:STANDARD
BEGIN:DAYLIGHT
TZOFFSETFROM:+1000
TZOFFSETTO:+1100
TZNAME:AEDT
DTSTART:20271002T160000
END:DAYLIGHT
END:VTIMEZONE
BEGIN:VTIMEZONE
TZID:UTC
BEGIN:STANDARD
TZOFFSETFROM:+0000
TZOFFSETTO:+0000
TZNAME:UTC
DTSTART:20220101T000000
END:STANDARD
END:VTIMEZONE
BEGIN:VEVENT
DTSTART;TZID=Australia/Sydney:20260429T123000
DTEND;TZID=Australia/Sydney:20260429T133000
DTSTAMP:20260420T164529
CREATED:20260416T094208Z
LAST-MODIFIED:20260416T105545Z
UID:3100-1777465800-1777469400@leahbellsoprano.com
SUMMARY:Lunchbreak Concert: Opera Division
DESCRIPTION:The Vocal and Opera Studies program comprises students of all voice types — Soprano\, Mezzo-Soprano\, Baritone\, Tenor\, and all the Fachs within. Singers are drawn to our institution from across Australia and around the world\, selected through a highly competitive process for a place in these prestigious courses at the Sydney Conservatorium of Music. Please join us for an afternoon of technically accomplished\, beautiful\, and compelling vocal performances.\nFree entry\, gold coin donation
URL:https://leahbellsoprano.com/performance/lunchbreak-concert-opera-division/
LOCATION:Verbrugghen Hall – Sydney Conservatorium\, 1 Conservatorium Rd\,\, Sydney\, NSW\, 2000\, Australia
ATTACH;FMTTYPE=image/png:https://leahbellsoprano.com/wp-content/uploads/perform2024d-copy.png
END:VEVENT
BEGIN:VEVENT
DTSTART;TZID=Australia/Sydney:20260417T190000
DTEND;TZID=Australia/Sydney:20260417T200000
DTSTAMP:20260420T164529
CREATED:20260224T113241Z
LAST-MODIFIED:20260418T125828Z
UID:2838-1776452400-1776456000@leahbellsoprano.com
SUMMARY:Piccinni - La buona figliuola Concert
DESCRIPTION:Greenway Series: SCM Early Music Ensemble and SCM Opera\nVenue:\nVerbrugghen Hall\nFriday 17 April 7:00pm\nAdult $25 Conc $15\nThe SCM Early Music Ensemble\, conducted by Erin Helyard\, presents a concert of excerpts from Niccolò Piccinni’s eighteenth-century opera La buona figliuola. Featuring singers from the SCM Opera School alongside students performing on period instruments under the guidance of Historical Performance specialists\, this performance brings the wit and elegance of Piccinni’s beloved opera to life in Verbrugghen Hall. \nPROGRAM \nNiccolò Piccinni Excerpts from La Buona Figiuola \nErin Helyard\, conductor
URL:https://leahbellsoprano.com/performance/piccinni-la-buona-figliuola-concert/
LOCATION:Verbrugghen Hall – Sydney Conservatorium\, 1 Conservatorium Rd\,\, Sydney\, NSW\, 2000\, Australia
ATTACH;FMTTYPE=image/png:https://leahbellsoprano.com/wp-content/uploads/Leah-PiccinniConcert.png
END:VEVENT
BEGIN:VEVENT
DTSTART;TZID=Australia/Sydney:20251103T190000
DTEND;TZID=Australia/Sydney:20251108T140000
DTSTAMP:20260420T164529
CREATED:20250926T014714Z
LAST-MODIFIED:20250926T015856Z
UID:2618-1762196400-1762610400@leahbellsoprano.com
SUMMARY:Orpheus in the Underworld by Jaques Offenbach
DESCRIPTION:Presented by: National Institute of Dramatic Art \n\n\nBy Jacques Offenbach\nConducted by Stephen Mould\nDirected by Constantine Costi\nChoreographed by Shannon Burns\nMusicians and singers\, students from The Conservatorium of Music\nDesign\, costume\, sets\, props\, crew and stage management\, students from NIDA \nGods Gone Wild \nForget tragedy – this is Orpheus as you’ve never seen him. \nIn Offenbach’s satirical operetta\, Orpheus and Eurydice aren’t star-crossed lovers\, they’re a dysfunctional couple\, and neither is particularly sad about their separation. When Eurydice descends into the underworld\, it isn’t tragedy that follows\, but an all-out divine spectacle. The gods are bored\, Hades is throwing a party\, and the legendary Can-Can ignites chaos. \nA co-production with the Sydney Conservatorium of Music\, this riotous\, visually spectacular production is helmed by acclaimed director Constantine Costi (La Traviata on Sydney Harbour). Expect razor-sharp wit\, dazzling vocal performances\, and a whirlwind of divine comedy and devilish fun. This is an unmissable mythological meltdown. \nCan you laugh your way out of hell? \n\nMon 3rd November 7pm 0PENING NIGHT\nWed 5th November 7pm\nThurs 6th November 7pm\nSat 8th November 2pm MATINEE \nTimes are approx. and subject to change at any time. \n2 hrs 30 mins including interval TBC. \nTip:For the most up-to-date performance times and content details\, please check the NIDA website before your visit.
URL:https://leahbellsoprano.com/performance/orpheus-in-the-underworld-by-jaques-offenbach/
LOCATION:NIDA Parade Theatre\, Sydney\, NSW\, NIDA on Anzac Parade in Kensington\, Sydney.\, Kensington\, NSW\, 2000\, Australia
ATTACH;FMTTYPE=image/jpeg:https://leahbellsoprano.com/wp-content/uploads/sfx343853.jpg
END:VEVENT
BEGIN:VEVENT
DTSTART;TZID=Australia/Sydney:20250618T180000
DTEND;TZID=Australia/Sydney:20250618T190000
DTSTAMP:20260420T164529
CREATED:20250617T015304Z
LAST-MODIFIED:20250911T064015Z
UID:1769-1750269600-1750273200@leahbellsoprano.com
SUMMARY:Cara's Collaborative Piano Recital with Leah\, Erina and Dana
DESCRIPTION:Cara will be presenting her second recital of the semester with three phenomenal musicians: sopranos Leah Bell and Erina Kirton and violist Dana Lee. We have put together an exciting program: \nHorace Keats (1895-1945)\nColumbine\nClaude Debussy (1862-1918)\nNuit d’étoiles\nHugo Wolf (1860-1903)\nDie Spröde\nLeah Bell\, soprano \nHenri Duparc (1848-1933)\nPhidlyé\nRichard Strauss (1864-1949)\nCäcilie\nErina Kirton\, soprano \n— PAUSE — \nJohannes Brahms (1833-1897)\nSonata for Viola and Piano\, Op. 120\, No. 2 in E♭ major\nI. Allegro amabile\nII. Allegro appassionato\nIII. Andante con moto — Allegro\nDana Lee\, viola
URL:https://leahbellsoprano.com/performance/caras-collaborative-piano-recital-with-leah-erina-and-dana/
LOCATION:NSW
CATEGORIES:Performances
ATTACH;FMTTYPE=image/jpeg:https://leahbellsoprano.com/wp-content/uploads/7fa4cf87-7ec3-427f-859c-f03bf2af25f8-copy.jpg
END:VEVENT
BEGIN:VEVENT
DTSTART;TZID=UTC:20250528T120000
DTEND;TZID=UTC:20250528T130000
DTSTAMP:20260420T164529
CREATED:20250227T151342Z
LAST-MODIFIED:20250617T014623Z
UID:1541-1748433600-1748437200@leahbellsoprano.com
SUMMARY:Lunchtime Concert: Opera Division
DESCRIPTION:Free entry\, gold coin donation\n\n\n\n\nThe Vocal and Opera Studies program consists of one hundred singers of all the varying voice types- Soprano\, Mezzo- Soprano\, Baritone\, Tenor and Counter-Tenor. Singers come from all over Australia as well as internationally to be selected for a place in these highly competitive courses at the Sydney Conservatorium of Music. \nSCM110 \nWhile all our concerts showcase the depth and breadth of talent from students and staff of the Sydney Conservatorium of Music\, SCM110 events have been programmed specifically to celebrate our 110th birthday in 2025. \nSCM110 events dig deeper into the stories\, people and collaborations that have shaped the Sydney Conservatorium of Music. These performances acknowledge our leading place in Australia’s cultural landscape and look to the future of ‘the Con’.\n\nDate: Wednesday\, 28th May 2025 Start Time: 12:00 pm Venue: Verbrugghen Hall\, Sydney Conservatorium\n\n\n\n\n\n\n\n\n\n\n\n\n 
URL:https://leahbellsoprano.com/performance/syd-con-lunchtime-concert/
LOCATION:Verbrugghen Hall – Sydney Conservatorium\, 1 Conservatorium Rd\,\, Sydney\, NSW\, 2000\, Australia
CATEGORIES:Performances
ATTACH;FMTTYPE=image/png:https://leahbellsoprano.com/wp-content/uploads/1DSC_6467-Edit.png
END:VEVENT
BEGIN:VEVENT
DTSTART;TZID=UTC:20250517T140000
DTEND;TZID=UTC:20250517T170000
DTSTAMP:20260420T164529
CREATED:20250227T001419Z
LAST-MODIFIED:20250617T014641Z
UID:1529-1747490400-1747501200@leahbellsoprano.com
SUMMARY:Sydney Opera Society Concert
DESCRIPTION:A Special Concert of selected favourite Opera Scenes performed by the Sydney Conservatorium Opera Masters students and supported by wonderful collaborative pianist\, Alan Hicks and conducted by Dr Simon Lobelson. Join us on Saturday\, 17th May 2025 at 2pm for the Sydney Conservatorium of Music Master’s students concert at the Uniting Church Chapel Auditorium 10/12 Clanwilliam St\, Willoughby. The concert will be followed by light refreshments. \n\n\n\n  \n\n\n\n\n\n\n\n\n\n\n\n\n\n 
URL:https://leahbellsoprano.com/performance/sydney-opera-society-concert/
LOCATION:Uniting Church Chapel Auditorium\, 10/12 Clanwilliam St\,\, Willoughby\, NSW\, 2068\, Australia
CATEGORIES:Performances
ATTACH;FMTTYPE=image/jpeg:https://leahbellsoprano.com/wp-content/uploads/494681342_122212306778169099_9079235124718177669_n.jpg
END:VEVENT
BEGIN:VEVENT
DTSTART;TZID=UTC:20250508T163000
DTEND;TZID=UTC:20250508T183000
DTSTAMP:20260420T164529
CREATED:20250304T230053Z
LAST-MODIFIED:20250617T014656Z
UID:1490-1746721800-1746729000@leahbellsoprano.com
SUMMARY:Opera Scenes Concert
DESCRIPTION:An entertaining selection of Opera Scenes from some of the greatest French\, Italian and German Operas\, all sung by the Sydney Conservatorium Opera Masters Cohort\, supported by wonderful collaborative artists. Concert will be held in the Refectory at the University of Sydney Camperdown Campus.  \n\n\n\n\n\n\n\n\n\n\n\n 
URL:https://leahbellsoprano.com/performance/opera-scenes-concert/
LOCATION:Refectory – University of Sydney\, The Refectory University of Sydney\, Sydney\, NSW\, 2050\, Australia
CATEGORIES:Performances
ATTACH;FMTTYPE=image/jpeg:https://leahbellsoprano.com/wp-content/uploads/OPERA-SCENES-CONCERT.jpg
END:VEVENT
BEGIN:VEVENT
DTSTART;TZID=UTC:20241120T110000
DTEND;TZID=UTC:20241120T120000
DTSTAMP:20260420T164529
CREATED:20240912T202858Z
LAST-MODIFIED:20250617T014706Z
UID:1347-1732100400-1732104000@leahbellsoprano.com
SUMMARY:Leah Bell's 4th Year Recital
DESCRIPTION:Recital Hall West\, Sydney Conservatorium \n\n\n\n\n\n4th Year RecitalDate: Wednesday\, 20th November 2024Start Time: 11:00amVenue: Recital Hall West\, Sydney ConservatoriumA selection of French\, Italian\, German and Spanish Songs and AriasSoprano: Leah BellCollaborative Pianist: Dr Eun-jung Byun
URL:https://leahbellsoprano.com/performance/leah-bell-4th-year-recital-2/
LOCATION:NSW
CATEGORIES:Performances
ATTACH;FMTTYPE=image/png:https://leahbellsoprano.com/wp-content/uploads/2024/09/2ndEdit-RedDress-08.png
END:VEVENT
BEGIN:VEVENT
DTSTART;TZID=UTC:20241013T130000
DTEND;TZID=UTC:20241013T140000
DTSTAMP:20260420T164529
CREATED:20240912T192525Z
LAST-MODIFIED:20250617T014713Z
UID:977-1728824400-1728828000@leahbellsoprano.com
SUMMARY:Storia Di Melodie - An Operatic Adventure
DESCRIPTION:Free entry \n\n\n\nFor tickets\, please register on the New Creatives homepage \n\n\n\nStoria Di Melodie will take audiences young and old on a musical journey where they will be introduced to popular arias\, duets\, and trios from operas most beloved classics. These include\, La Traviata\, The Magic Flute\, Lakmé\, Semele\, Gianni Schicchi\, The Merry Widow\, La Bohème\, and Candide; alongside original material composed by Jed Atienza\, and a libretto written by John L’Estrange and Annalise McKewen. \n\n\n\nPERFORMERS \n\n\n\nAnnalise McKewen\, sopranoJohn L’Estrange\, tenorErina Kirton\, sopranoLeah Bell\, sopranoCara Eccleston\, pianoWilliam Peng\, pianoJed Atienza\, composer \n\n\n\nRunning Time: approx. 60 minutes
URL:https://leahbellsoprano.com/performance/storia-di-melodie-an-operatic-adventure/
LOCATION:Music Workshop\, Sydney Conservatorium
CATEGORIES:Performances
ATTACH;FMTTYPE=image/png:https://leahbellsoprano.com/wp-content/uploads/2024/09/PXL_20241005_235011466.MP_.png
END:VEVENT
BEGIN:VEVENT
DTSTART;TZID=UTC:20241006T110000
DTEND;TZID=UTC:20241006T120000
DTSTAMP:20260420T164529
CREATED:20240829T184841Z
LAST-MODIFIED:20250617T014726Z
UID:1345-1728212400-1728216000@leahbellsoprano.com
SUMMARY:Croydon crescendo concert series: Where young Voices Shine!
DESCRIPTION:An ititiative by students of the Sydney Conservatorium of Music & The German Parish of St Christophorus.Come and enjoy a selection of Singers are supported by excellent pianists on October 6 at 11am.Coffee and tea will be served during the interval.Bring your friends and family.Address: St Christophoros Church\, 112 Edwin St\, Croydon\, NSW\, 2132
URL:https://leahbellsoprano.com/performance/croydon-crescendo-concert-series-where-young-voices-shine-2/
LOCATION:NSW
CATEGORIES:Performances
ATTACH;FMTTYPE=image/png:https://leahbellsoprano.com/wp-content/uploads/2024/08/PXL_20241005_234958493.MP_.png
END:VEVENT
BEGIN:VEVENT
DTSTART;TZID=UTC:20240802T193000
DTEND;TZID=UTC:20240802T203000
DTSTAMP:20260420T164529
CREATED:20240714T222330Z
LAST-MODIFIED:20250617T014735Z
UID:1344-1722627000-1722630600@leahbellsoprano.com
SUMMARY:Opera's Heroes and Villains: Senior Vocal Department Concert (Student Concert)
DESCRIPTION:The concept of “heroes and villains” in opera is a nuanced and multifaceted concept that mirrors the complexities of human nature. In art\, literature\, and music\, we seek reflections of our own experiences\, emotions\, and moral dilemmas. Opera\, with its rich tapestry of music and narrative\, delves deeply into this exploration\, unraveling the intricate layers of its characters. Through soaring arias and dramatic scores\, the boundaries between heroism and villainy blur\, prompting us to question: Are there truly pure heroes and unequivocal villains\, or does every character embody a blend of virtues and flaws? This opera scenes program invites you to journey through these timeless stories\, examining how operatic masterpieces probe the essence of morality and humanity\, challenging our perceptions and evoking a deeper understanding of the dualities within us all.
URL:https://leahbellsoprano.com/performance/operas-heroes-and-villains-senior-vocal-department-concert-student-concert-2/
LOCATION:NSW
CATEGORIES:Performances
ATTACH;FMTTYPE=image/png:https://leahbellsoprano.com/wp-content/uploads/2024/07/452689765_1084657246709609_4302740322123911459_n.png
END:VEVENT
BEGIN:VEVENT
DTSTART;TZID=UTC:20240322T183000
DTEND;TZID=UTC:20240322T193000
DTSTAMP:20260420T164529
CREATED:20240309T143959Z
LAST-MODIFIED:20250911T064025Z
UID:1343-1711132200-1711135800@leahbellsoprano.com
SUMMARY:Art Song At the Conservatorium
DESCRIPTION:A selection of Art Songs performed by the Sydney Conservatorium Vocal Performance Students\, accompanied by the wonderful Collaborative Pianist: Jamie-Lee Xu.
URL:https://leahbellsoprano.com/performance/art-song-concert-2/
LOCATION:Refectory – University of Sydney\, The Refectory University of Sydney\, Sydney\, NSW\, 2050\, Australia
CATEGORIES:Performances
ATTACH;FMTTYPE=image/png:https://leahbellsoprano.com/wp-content/uploads/2024/03/IMG-20240322-WA0006.png
END:VEVENT
BEGIN:VEVENT
DTSTART;TZID=UTC:20240313T120000
DTEND;TZID=UTC:20240313T130000
DTSTAMP:20260420T164529
CREATED:20240309T141434Z
LAST-MODIFIED:20250911T064033Z
UID:1342-1710331200-1710334800@leahbellsoprano.com
SUMMARY:Lunchbreak Concert
DESCRIPTION:3rd and 4th Year Vocal Division presents a selection of Songs with the amazing Collaborative Pianist: Eun-Jung Byun  
URL:https://leahbellsoprano.com/performance/lunchbreak-concert-2/
LOCATION:Refectory – University of Sydney\, The Refectory University of Sydney\, Sydney\, NSW\, 2050\, Australia
CATEGORIES:Performances
ATTACH;FMTTYPE=image/png:https://leahbellsoprano.com/wp-content/uploads/2024/03/DSC6890.png
END:VEVENT
BEGIN:VEVENT
DTSTART;TZID=UTC:20231116T100000
DTEND;TZID=UTC:20231116T110000
DTSTAMP:20260420T164529
CREATED:20231029T174849Z
LAST-MODIFIED:20250911T064043Z
UID:1341-1700128800-1700132400@leahbellsoprano.com
SUMMARY:Leah's 3rd year Recital
DESCRIPTION:Hi Everyone! \n\n\n\nIt’s coming up to my 3rd year Classical Singing Recital!This year we get to perform in person\, so I can invite people. I’d love if you could come\, and if you can\, I’ll see you there! \n\n\n\nThursday 16th NovemberRecital Hall East\, Sydney Conservatorium of Music10:00 amPlease come a little early to locate the Hall \n\n\n\nLeah Bell\, SopranoEun-Jung Byun\, Pianist
URL:https://leahbellsoprano.com/performance/leahs-3rd-year-recital-2/
LOCATION:NSW
CATEGORIES:Performances
ATTACH;FMTTYPE=image/png:https://leahbellsoprano.com/wp-content/uploads/2023/10/leah3.png
END:VEVENT
BEGIN:VEVENT
DTSTART;TZID=UTC:20230926T100000
DTEND;TZID=UTC:20230926T223000
DTSTAMP:20260420T164529
CREATED:20230726T205637Z
LAST-MODIFIED:20250911T064050Z
UID:1339-1695722400-1695767400@leahbellsoprano.com
SUMMARY:Liederfest concert: Australian Artsong Concert
DESCRIPTION:
URL:https://leahbellsoprano.com/performance/liederfest-concert-australian-artsong-concert-2/
LOCATION:Sydney\, Sydney\, NSW\, Australia
CATEGORIES:Performances
ATTACH;FMTTYPE=image/png:https://leahbellsoprano.com/wp-content/uploads/2025/02/DSC_1402-Enhanced-NR-1.png
END:VEVENT
BEGIN:VEVENT
DTSTART;TZID=UTC:20230813T153000
DTEND;TZID=UTC:20230813T180000
DTSTAMP:20260420T164529
CREATED:20230731T221540Z
LAST-MODIFIED:20250911T064059Z
UID:1340-1691940600-1691949600@leahbellsoprano.com
SUMMARY:Don Giovanni - Concordia Ensemble
DESCRIPTION:
URL:https://leahbellsoprano.com/performance/don-giovanni-concordia-ensemble-2/
LOCATION:Pitt St Uniting Church\, 264 Pitt St\, ydney\, NSW\, 2000\, Australia
CATEGORIES:Performances
ATTACH;FMTTYPE=image/png:https://leahbellsoprano.com/wp-content/uploads/2023/08/Untitled-1.png
END:VEVENT
BEGIN:VEVENT
DTSTART;TZID=UTC:20230516T180000
DTEND;TZID=UTC:20230516T193000
DTSTAMP:20260420T164529
CREATED:20230430T202941Z
LAST-MODIFIED:20250911T064116Z
UID:1336-1684260000-1684265400@leahbellsoprano.com
SUMMARY:Masterclass with Prof Michael Halliwell
DESCRIPTION:
URL:https://leahbellsoprano.com/performance/masterclass-michael-halliwell-2/
LOCATION:Refectory – University of Sydney\, The Refectory University of Sydney\, Sydney\, NSW\, 2050\, Australia
CATEGORIES:Performances
ATTACH;FMTTYPE=image/png:https://leahbellsoprano.com/wp-content/uploads/2023/05/PXL_20220812_003613725.MP_.png
END:VEVENT
BEGIN:VEVENT
DTSTART;TZID=UTC:20230512T190000
DTEND;TZID=UTC:20230512T210000
DTSTAMP:20260420T164529
CREATED:20230507T161016Z
LAST-MODIFIED:20250911T064106Z
UID:797-1683918000-1683925200@leahbellsoprano.com
SUMMARY:Haydn Nelson Mass - SCM Choir
DESCRIPTION:Sydney University Musical Society\, Sydney Conservatism of Music Symphony Orchestra\, and Sydney Conservatorium Choir are teaming up to bring you an unforgettable night of music on May 12th at Verbrugghen Hall\, Sydney Conservatorium of Music. \n\n\n Where: Verbrugghen Hall\, Sydney Conservatorium of Music\, Sydney\n When: May 12\, 7:00 – 9:00pm. Doors open at 6:45pm.\n Tickets: ADULT $25 CONC $15. Purchase yours now by clicking the link in this post and looking for “SCM Symphony Orchestra and Choirs (Greenway Series)”.\n\n\nJoin us as we perform Haydn’s very epic Nelson Mass. The SCM’s Symphony Orchestra and Big Choir will also present their own performances of Johann Strauss’ Kaiser-Walzer\, Op.437 and Unter Donner und Blitz\, Op.324.\n\n\n\n\n\n\n\n\n\n\n 
URL:https://leahbellsoprano.com/performance/haydn-nelson-mass-scm-choir/
LOCATION:Refectory – University of Sydney\, The Refectory University of Sydney\, Sydney\, NSW\, 2050\, Australia
CATEGORIES:Performances
ATTACH;FMTTYPE=image/png:https://leahbellsoprano.com/wp-content/uploads/2023/05/Leah-choir3.png
END:VEVENT
BEGIN:VEVENT
DTSTART;TZID=UTC:20230329T120000
DTEND;TZID=UTC:20230329T130000
DTSTAMP:20260420T164529
CREATED:20230316T181356Z
LAST-MODIFIED:20250213T152819Z
UID:495-1680091200-1680094800@leahbellsoprano.com
SUMMARY:Lunchtime Performance
DESCRIPTION:A Selection of Classical Singers perform a Lunchtime Concert at Sydney Conservatorium
URL:https://leahbellsoprano.com/performance/lunchtime-performance/
LOCATION:Refectory – University of Sydney\, The Refectory University of Sydney\, Sydney\, NSW\, 2050\, Australia
CATEGORIES:Performances
ATTACH;FMTTYPE=image/png:https://leahbellsoprano.com/wp-content/uploads/2023/03/PXL_20220512_090610714.MP_.png
END:VEVENT
END:VCALENDAR